BEGIN:VCALENDAR
VERSION:2.0
PRODID:-//Lincoln owners club Norway - ECPv6.6.4.2//NONSGML v1.0//EN
CALSCALE:GREGORIAN
METHOD:PUBLISH
X-WR-CALNAME:Lincoln owners club Norway
X-ORIGINAL-URL:https://lcoc.no
X-WR-CALDESC:Events for Lincoln owners club Norway
REFRESH-INTERVAL;VALUE=DURATION:PT1H
X-Robots-Tag:noindex
X-PUBLISHED-TTL:PT1H
BEGIN:VTIMEZONE
TZID:UTC
BEGIN:STANDARD
TZOFFSETFROM:+0000
TZOFFSETTO:+0000
TZNAME:UTC
DTSTART:20260101T000000
END:STANDARD
END:VTIMEZONE
BEGIN:VEVENT
DTSTART;TZID=UTC:20260312T180000
DTEND;TZID=UTC:20260312T213000
DTSTAMP:20260419T152759
CREATED:20260207T211715Z
LAST-MODIFIED:20260207T211715Z
UID:617-1773338400-1773351000@lcoc.no
SUMMARY:Årsmøte 2026
DESCRIPTION:De Lincoln eiere som har betalt sitt medlemskap i Lincoln klubben\, får gratis guidet omvisning. (Klubben betaler for disse\, kr. 196\,-per pers).\n\n\nDet er fortsatt tid for å melde seg inn i klubben og være med på omvisningen.\n\n\nOmvisningen er fra 18:00 til 19;30\, årsmøtet starter kl. 19:30\n\n\nDet er en Diner i lokalene\, der er mulig å få spist god mat før omvisningen. Menyen ligger på https://eacdiner.no\n\n\nPå selve årsmøtet serveres mineralvann\, kaffe og wienerbrød/vafler\, vi må derfor be om påmelding både til omvisning og til årsmøtet.\n\nPå årsmøtet blir det som vanlig informasjon fra Ingve Jensen\, valg til styret (alle har sagt ja til gjenvalg)\,\nØkonomi\, aktivitet for 2026.\nUtlodning.\n\n\nHusk å si ifra hvem som kommer før 6. mars.\nVel møtt.\n\n\nMed vennlig hilsen\nTor Nordvold\, tor.nordvold@gmail.com\, tlf. 91123101.\n\n\n\n\n\n–  Det er begrenset antall plasser (24 personer)\, så vær rask med påmelding.
URL:https://lcoc.no/event/arsmote-2026/
LOCATION:Eight Amcars Club\, Asakveien 11\, Sørum\, 1923\, Norway
END:VEVENT
END:VCALENDAR