BEGIN:VCALENDAR
VERSION:2.0
PRODID:-//Lincoln owners club Norway - ECPv6.6.4.2//NONSGML v1.0//EN
CALSCALE:GREGORIAN
METHOD:PUBLISH
X-WR-CALNAME:Lincoln owners club Norway
X-ORIGINAL-URL:https://lcoc.no
X-WR-CALDESC:Events for Lincoln owners club Norway
REFRESH-INTERVAL;VALUE=DURATION:PT1H
X-Robots-Tag:noindex
X-PUBLISHED-TTL:PT1H
BEGIN:VTIMEZONE
TZID:UTC
BEGIN:STANDARD
TZOFFSETFROM:+0000
TZOFFSETTO:+0000
TZNAME:UTC
DTSTART:20230101T000000
END:STANDARD
END:VTIMEZONE
BEGIN:VEVENT
DTSTART;TZID=UTC:20250831T120000
DTEND;TZID=UTC:20250831T160000
DTSTAMP:20260419T154137
CREATED:20250301T195623Z
LAST-MODIFIED:20250301T195623Z
UID:585-1756641600-1756656000@lcoc.no
SUMMARY:Sensommertreff Utstein Kloster Hotell
DESCRIPTION:v/Ingve & Brit. \nFellescruising til Mosterøy\, avgang fra Esso’en i Bekkefaret\, Stavanger\, kl. 11:30\,  –  eller oppmøte på Mosterøy.
URL:https://lcoc.no/event/sensommertreff-utstein-kloster-hotell/
LOCATION:Utstein Kloster Hotell\, Mosterøyveien 661\, Mosterøy\, 4156\, Norway
END:VEVENT
BEGIN:VEVENT
DTSTART;TZID=UTC:20250830T120000
DTEND;TZID=UTC:20250830T170000
DTSTAMP:20260419T154137
CREATED:20250302T190155Z
LAST-MODIFIED:20250302T190155Z
UID:595-1756555200-1756573200@lcoc.no
SUMMARY:Sensommertreff på Fjell
DESCRIPTION:v/Audun Skålevik. \nTa gjerne en telefon til Audun\, 957 86 450\, om du kommer.
URL:https://lcoc.no/event/sensommertreff-pa-fjell-2/
LOCATION:Audun Skålevik\, Torvmarkvegen 41\, Fjell\, 5357\, Norway
END:VEVENT
BEGIN:VEVENT
DTSTART;TZID=UTC:20250809T080000
DTEND;TZID=UTC:20250810T170000
DTSTAMP:20260419T154137
CREATED:20250302T185916Z
LAST-MODIFIED:20250302T185916Z
UID:589-1754726400-1754845200@lcoc.no
SUMMARY:Grensetreffet
DESCRIPTION:Fredriksten festning\, Halden
URL:https://lcoc.no/event/grensetreffet/
END:VEVENT
BEGIN:VEVENT
DTSTART;TZID=UTC:20250705T090000
DTEND;TZID=UTC:20250705T190000
DTSTAMP:20260419T154137
CREATED:20250628T061647Z
LAST-MODIFIED:20250628T062353Z
UID:609-1751706000-1751742000@lcoc.no
SUMMARY:Merkebiltreff
DESCRIPTION:Avreise fra Burger King på Tunga kl. 09:00\, pit stopp på Prix på Hell. \nDette er i forbindelse med TrønderFord sitt treff
URL:https://lcoc.no/event/merkebiltreff/
LOCATION:Selbu
END:VEVENT
BEGIN:VEVENT
DTSTART;TZID=UTC:20250704T170000
DTEND;TZID=UTC:20250704T220000
DTSTAMP:20260419T154137
CREATED:20250302T185737Z
LAST-MODIFIED:20250302T185737Z
UID:588-1751648400-1751666400@lcoc.no
SUMMARY:Lincoln Cruising\, Lillestrøm
DESCRIPTION:
URL:https://lcoc.no/event/lincoln-cruising-lillestrom-3/
END:VEVENT
BEGIN:VEVENT
DTSTART;TZID=UTC:20250627T170000
DTEND;TZID=UTC:20250629T110000
DTSTAMP:20260419T154137
CREATED:20250301T195408Z
LAST-MODIFIED:20250301T195408Z
UID:584-1751043600-1751194800@lcoc.no
SUMMARY:American festival\, Lista/Vanse
DESCRIPTION:Vi satser på felles grilling fredag kveld som vanlig på Stave Gård\, Nordbygdveien 78\, 4560 Vanse.  De har allerede fullbooket for overnatting. \nLørdag kl. 10:00 er det treff på samme sted\, og lørdag kveld møtes vi igjen her til premieutdeling og sosialt samvær. \nTa kontakt med Ingve\, 91529064\, for ev.spørsmål.
URL:https://lcoc.no/event/american-festival-lista-vanse/
LOCATION:Lista/Vanse\, Gnr 92 Bnr 23 Lista Fly og Næringspark\, Vanse\, 4560
END:VEVENT
BEGIN:VEVENT
DTSTART;VALUE=DATE:20250614
DTEND;VALUE=DATE:20250615
DTSTAMP:20260419T154137
CREATED:20250501T202654Z
LAST-MODIFIED:20250501T202654Z
UID:605-1749859200-1749945599@lcoc.no
SUMMARY:AmCar 50 år
DESCRIPTION:Nova Spectrum Lillestrøm. \nSe AmCar Magazine for info.
URL:https://lcoc.no/event/amcar-50-ar/
END:VEVENT
BEGIN:VEVENT
DTSTART;TZID=UTC:20250601T100000
DTEND;TZID=UTC:20250601T170000
DTSTAMP:20260419T154137
CREATED:20250302T185524Z
LAST-MODIFIED:20250523T064140Z
UID:586-1748772000-1748797200@lcoc.no
SUMMARY:Bilens dag\, Hadeland Glassverk
DESCRIPTION:Felles cruising (Lincoln & Mercury) til Hadeland Glassverk v/Tor. \nOppmøte kl.10:00 på Olavsgård
URL:https://lcoc.no/event/bilens-dag-2/
END:VEVENT
BEGIN:VEVENT
DTSTART;TZID=UTC:20250523T150000
DTEND;TZID=UTC:20250525T160000
DTSTAMP:20260419T154137
CREATED:20250501T202500Z
LAST-MODIFIED:20250501T202500Z
UID:604-1748012400-1748188800@lcoc.no
SUMMARY:Bilentusiasttreff Hunderfossen v/Lillehammer
DESCRIPTION:Kontakt ACC Lillehammer for ytterligere info.
URL:https://lcoc.no/event/bilentusiasttreff-hunderfossen-v-lillehammer/
END:VEVENT
BEGIN:VEVENT
DTSTART;TZID=UTC:20250501T100000
DTEND;TZID=UTC:20250501T150000
DTSTAMP:20260419T154137
CREATED:20250301T195053Z
LAST-MODIFIED:20250301T195053Z
UID:582-1746093600-1746111600@lcoc.no
SUMMARY:Vårmønstring ("Treff i treffet") på Kvadrat\, Sandnes\, v/Ingve og Brit
DESCRIPTION:
URL:https://lcoc.no/event/varmonstring-treff-i-treffet-pa-kvadrat-sandnes-v-ingve-og-brit-2/
LOCATION:Kvadrat kjøpesenter\, parkeringsplass\, Gamle Stokkavei 1\, Sandnes\, 4313\, Norway
END:VEVENT
BEGIN:VEVENT
DTSTART;TZID=UTC:20250426T100000
DTEND;TZID=UTC:20250426T150000
DTSTAMP:20260419T154137
CREATED:20250301T194624Z
LAST-MODIFIED:20250301T194624Z
UID:578-1745661600-1745679600@lcoc.no
SUMMARY:Vårmønstring Lyngdal v/Ingve og Alf
DESCRIPTION:
URL:https://lcoc.no/event/varmonstring-lyngdal-v-ingve-og-alf-2/
END:VEVENT
BEGIN:VEVENT
DTSTART;TZID=UTC:20250303T190000
DTEND;TZID=UTC:20250303T210000
DTSTAMP:20260419T154137
CREATED:20250301T193858Z
LAST-MODIFIED:20250301T194717Z
UID:576-1741028400-1741035600@lcoc.no
SUMMARY:Årsmøte LCOC
DESCRIPTION:
URL:https://lcoc.no/event/arsmote/
LOCATION:Mortens Kro\, Trondheimsveien 3\, Hagan\, 1481\, Norway
END:VEVENT
BEGIN:VEVENT
DTSTART;TZID=UTC:20240831T130000
DTEND;TZID=UTC:20240831T170000
DTSTAMP:20260419T154137
CREATED:20240320T163522Z
LAST-MODIFIED:20240320T164502Z
UID:551-1725109200-1725123600@lcoc.no
SUMMARY:Sensommertreff på Fjell
DESCRIPTION:v/Audun Skålevik. \nTa gjerne en telefon til Audun\, 957 86 450\, om du kommer.
URL:https://lcoc.no/event/sensommertreff-pa-fjell/
LOCATION:Audun Skålevik\, Torvmarkvegen 41\, Fjell\, 5357\, Norway
END:VEVENT
BEGIN:VEVENT
DTSTART;TZID=UTC:20240831T100000
DTEND;TZID=UTC:20240831T150000
DTSTAMP:20260419T154137
CREATED:20240320T163627Z
LAST-MODIFIED:20240320T163627Z
UID:552-1725098400-1725116400@lcoc.no
SUMMARY:Lincoln-treff
DESCRIPTION:RøhneSelmer Bilfabrikken\, Lier/Drammen
URL:https://lcoc.no/event/lincoln-treff/
END:VEVENT
BEGIN:VEVENT
DTSTART;TZID=UTC:20240825T120000
DTEND;TZID=UTC:20240825T153000
DTSTAMP:20260419T154137
CREATED:20240320T163152Z
LAST-MODIFIED:20240323T071513Z
UID:550-1724587200-1724599800@lcoc.no
SUMMARY:Sensommertreff Utstein Kloster Hotel
DESCRIPTION:v/Ingve & Brit. \nFellescruising til Mosterøy\, avgang fra Esso’en i Bekkefaret\, Stavanger\, kl. 11:30\,  –  eller oppmøte på Mosterøy.
URL:https://lcoc.no/event/sensommertreff-utstein-kloster-hotel/
LOCATION:Utstein Kloster Hotell\, Mosterøyveien 661\, Mosterøy\, 4156\, Norway
END:VEVENT
BEGIN:VEVENT
DTSTART;TZID=UTC:20240810T100000
DTEND;TZID=UTC:20240811T150000
DTSTAMP:20260419T154137
CREATED:20240320T162915Z
LAST-MODIFIED:20240320T162915Z
UID:549-1723284000-1723388400@lcoc.no
SUMMARY:Halden\, Fredriksten Festning
DESCRIPTION:
URL:https://lcoc.no/event/halden-fredriksten-festning/
END:VEVENT
BEGIN:VEVENT
DTSTART;TZID=UTC:20240810T100000
DTEND;TZID=UTC:20240810T170000
DTSTAMP:20260419T154137
CREATED:20240320T162803Z
LAST-MODIFIED:20240320T162803Z
UID:548-1723284000-1723309200@lcoc.no
SUMMARY:Hot August Night\, Ravnkloa\, Trondheim
DESCRIPTION:v/Tove Hansen
URL:https://lcoc.no/event/hot-august-night-ravnkloa-trondheim/
END:VEVENT
BEGIN:VEVENT
DTSTART;TZID=UTC:20240704T170000
DTEND;TZID=UTC:20240704T220000
DTSTAMP:20260419T154137
CREATED:20240320T162624Z
LAST-MODIFIED:20240320T162624Z
UID:547-1720112400-1720130400@lcoc.no
SUMMARY:Lincoln Cruising\, Trondheim
DESCRIPTION:Heng på fellescruisingen til ACC Trondheim
URL:https://lcoc.no/event/lincoln-cruising-trondheim/
END:VEVENT
BEGIN:VEVENT
DTSTART;TZID=UTC:20240704T170000
DTEND;TZID=UTC:20240704T220000
DTSTAMP:20260419T154137
CREATED:20240320T162411Z
LAST-MODIFIED:20240320T162411Z
UID:545-1720112400-1720130400@lcoc.no
SUMMARY:Lincoln Cruising\, Lillestrøm
DESCRIPTION:
URL:https://lcoc.no/event/lincoln-cruising-lillestrom-2/
END:VEVENT
BEGIN:VEVENT
DTSTART;TZID=UTC:20240704T050000
DTEND;TZID=UTC:20240704T220000
DTSTAMP:20260419T154137
CREATED:20240320T162522Z
LAST-MODIFIED:20240320T162522Z
UID:546-1720069200-1720130400@lcoc.no
SUMMARY:Lincoln Cruising\, Stavanger
DESCRIPTION:v/Ingve
URL:https://lcoc.no/event/lincoln-cruising-stavanger/
END:VEVENT
BEGIN:VEVENT
DTSTART;TZID=UTC:20240628T150000
DTEND;TZID=UTC:20240630T110000
DTSTAMP:20260419T154137
CREATED:20240320T162300Z
LAST-MODIFIED:20240320T162300Z
UID:544-1719586800-1719745200@lcoc.no
SUMMARY:American days\, Lista / Vanse
DESCRIPTION:Lista flypark tar i år ikke mot overnattingsgjester denne helgen\, så hver enkelt må finne overnatting selv. \nVi satser på felles grilling fredag kveld som vanlig\, men i år på Stave Gård\, Nordbygdveien 78\, 4560 Vanse.  De har allerede fullbooket for overnatting. \nLørdag kl. 10:00 er det treff på samme sted\, og lørdag kveld møtes vi igjen her til premieutdeling og sosialt samvær. \nTa kontakt med Ingve for ev.spørsmål.
URL:https://lcoc.no/event/american-days-lista-vanse/
END:VEVENT
BEGIN:VEVENT
DTSTART;TZID=UTC:20240609T100000
DTEND;TZID=UTC:20240609T170000
DTSTAMP:20260419T154137
CREATED:20240320T161143Z
LAST-MODIFIED:20240320T161143Z
UID:543-1717927200-1717952400@lcoc.no
SUMMARY:Bilens dag
DESCRIPTION:Felles cruising (Lincoln & Mercury) til Hadeland Glassverk\, v/Tor. \nCruisingen starter fra Hvam kl. 10:00
URL:https://lcoc.no/event/bilens-dag/
END:VEVENT
BEGIN:VEVENT
DTSTART;TZID=UTC:20240501T100000
DTEND;TZID=UTC:20240501T150000
DTSTAMP:20260419T154137
CREATED:20240213T191522Z
LAST-MODIFIED:20240320T164103Z
UID:534-1714557600-1714575600@lcoc.no
SUMMARY:Vårmønstring ("Treff i treffet") på Kvadrat\, Sandnes\, v/Ingve og Brit
DESCRIPTION:
URL:https://lcoc.no/event/varmonstring-treff-i-treffet-pa-kvadrat-sandnes-v-ingve-og-brit/
LOCATION:Kvadrat kjøpesenter\, parkeringsplass\, Gamle Stokkavei 1\, Sandnes\, 4313\, Norway
END:VEVENT
BEGIN:VEVENT
DTSTART;TZID=UTC:20240420T100000
DTEND;TZID=UTC:20240420T150000
DTSTAMP:20260419T154137
CREATED:20240320T160935Z
LAST-MODIFIED:20240320T160935Z
UID:542-1713607200-1713625200@lcoc.no
SUMMARY:Vårmønstring Lyngdal v/Ingve og Alf
DESCRIPTION:
URL:https://lcoc.no/event/varmonstring-lyngdal-v-ingve-og-alf/
END:VEVENT
BEGIN:VEVENT
DTSTART;TZID=UTC:20240226T173000
DTEND;TZID=UTC:20240226T193000
DTSTAMP:20260419T154137
CREATED:20240213T193103Z
LAST-MODIFIED:20240213T193103Z
UID:539-1708968600-1708975800@lcoc.no
SUMMARY:Årsmøte LCOC
DESCRIPTION:Tradisjonelt program med gjennomgang av årsrapport\, regnskap\, valg\, terminliste\, etc. \nDeretter sosialt innslag med lett bevertning. \nVelkommen!
URL:https://lcoc.no/event/arsmote-lcoc/
LOCATION:Mortens Kro\, Trondheimsveien 3\, Hagan\, 1481\, Norway
END:VEVENT
BEGIN:VEVENT
DTSTART;TZID=UTC:20230902T103000
DTEND;TZID=UTC:20230902T140000
DTSTAMP:20260419T154137
CREATED:20230511T152616Z
LAST-MODIFIED:20230828T052020Z
UID:467-1693650600-1693663200@lcoc.no
SUMMARY:Lincolntreff h/Ford\, RhøneSelmer\, Sandvika\, v/Birger og Per
DESCRIPTION:
URL:https://lcoc.no/event/lincolntreff-h-ford-rhoneselmer-sandvika-v-birger-og-per/
LOCATION:Ford RøhneSelmer\, Stasjonsveien 20\, 1396 Hvalstad\, Norway
ATTACH;FMTTYPE=image/jpeg:https://lcoc.no/wp-content/uploads/2023/02/Trond-Saetre-og-Marit-Gronland.-1951-Lincoln-Cosmoolitan.jpg
END:VEVENT
BEGIN:VEVENT
DTSTART;VALUE=DATE:20230826
DTEND;VALUE=DATE:20230827
DTSTAMP:20260419T154137
CREATED:20230511T152514Z
LAST-MODIFIED:20230511T152514Z
UID:466-1693008000-1693094399@lcoc.no
SUMMARY:Lincoln sensommertreff hos Audun i Torvmarksveien 41\, Fjell\, Skålevik
DESCRIPTION:Ta med egen grillmat. Gi gjerne tips til Audun om dere kommer:  95786450
URL:https://lcoc.no/event/lincoln-sensommertreff-hos-audun-i-torvmarksveien-41-fjell-skalevik/
END:VEVENT
BEGIN:VEVENT
DTSTART;VALUE=DATE:20230820
DTEND;VALUE=DATE:20230821
DTSTAMP:20260419T154137
CREATED:20230511T152234Z
LAST-MODIFIED:20230511T152234Z
UID:465-1692489600-1692575999@lcoc.no
SUMMARY:Sensommertreff Mosterøy\, Sør-Vest v/Ingve
DESCRIPTION:
URL:https://lcoc.no/event/sensommertreff-mosteroy-sor-vest-v-ingve/
ATTACH;FMTTYPE=image/jpeg:https://lcoc.no/wp-content/uploads/2023/05/IMG_4407-scaled.jpg
END:VEVENT
BEGIN:VEVENT
DTSTART;VALUE=DATE:20230812
DTEND;VALUE=DATE:20230814
DTSTAMP:20260419T154137
CREATED:20230511T152104Z
LAST-MODIFIED:20230511T152104Z
UID:464-1691798400-1691971199@lcoc.no
SUMMARY:Fredriksten Festning\, Halden
DESCRIPTION:
URL:https://lcoc.no/event/fredriksten-festning-halden/
END:VEVENT
BEGIN:VEVENT
DTSTART;VALUE=DATE:20230812
DTEND;VALUE=DATE:20230814
DTSTAMP:20260419T154137
CREATED:20230511T152029Z
LAST-MODIFIED:20230511T152029Z
UID:463-1691798400-1691971199@lcoc.no
SUMMARY:Hot August Night\, Lincoln merkebiltreff i Ravnkloa v/Tove
DESCRIPTION:
URL:https://lcoc.no/event/hot-august-night-lincoln-merkebiltreff-i-ravnkloa-v-tove/
END:VEVENT
END:VCALENDAR